BEGIN:VCALENDAR
VERSION:2.0
PRODID:-//wp-events-plugin.com//6.6.1//EN
BEGIN:VEVENT
UID:1@alethiajonesphd.com
DTSTART:20230301T000000Z
DTEND:20230308T010000Z
DTSTAMP:20230305T013400Z
URL:https://alethiajonesphd.com/events/operation-save-abortion/
SUMMARY:Operation Save Abortion
DESCRIPTION:virtual
END:VEVENT
END:VCALENDAR