BEGIN:VCALENDAR
VERSION:2.0
PRODID:-//wp-events-plugin.com//6.6.1//EN
BEGIN:VEVENT
UID:3@alethiajonesphd.com
DTSTART:20230315T000000Z
DTEND:20230318T030000Z
DTSTAMP:20230305T013400Z
URL:https://alethiajonesphd.com/events/urban-bush-women-bold-training/
SUMMARY:Urban Bush Women BOLD Training
DESCRIPTION:UBW
END:VEVENT
END:VCALENDAR